BEGIN:VCALENDAR
VERSION:2.0
PRODID:-//139.99.130.124//NONSGML kigkonsult.se iCalcreator 2.20//
CALSCALE:GREGORIAN
METHOD:PUBLISH
X-FROM-URL:http://www.fortunagroup.com.au
X-WR-TIMEZONE:Australia/Melbourne
BEGIN:VTIMEZONE
TZID:Australia/Melbourne
X-LIC-LOCATION:Australia/Melbourne
BEGIN:STANDARD
DTSTART:20190407T030000
TZOFFSETFROM:+1100
TZOFFSETTO:+1000
TZNAME:AEST
END:STANDARD
BEGIN:DAYLIGHT
DTSTART:20181007T020000
TZOFFSETFROM:+1000
TZOFFSETTO:+1100
TZNAME:AEDT
END:DAYLIGHT
END:VTIMEZONE
BEGIN:VEVENT
UID:ai1ec-162@www.fortunagroup.com.au
DTSTAMP:20190301T160217Z
CATEGORIES:
CONTACT:
DESCRIPTION:
DTSTART;VALUE=DATE:20180312
DTEND;VALUE=DATE:20180313
SEQUENCE:0
SUMMARY:Labour Day
URL:http://www.fortunagroup.com.au/event/labour-day/
X-COST-TYPE:free
END:VEVENT
BEGIN:VEVENT
UID:ai1ec-167@www.fortunagroup.com.au
DTSTAMP:20190301T160217Z
CATEGORIES:
CONTACT:
DESCRIPTION:
DTSTART;VALUE=DATE:20180425
DTEND;VALUE=DATE:20180426
SEQUENCE:0
SUMMARY:ANZAC Day
URL:http://www.fortunagroup.com.au/event/anzac-day/
X-COST-TYPE:free
END:VEVENT
BEGIN:VEVENT
UID:ai1ec-161@www.fortunagroup.com.au
DTSTAMP:20190301T160217Z
CATEGORIES:
CONTACT:
DESCRIPTION:<p>Feb group meeting – Guest Bill Johnson</p>
DTSTART;TZID=Australia/Melbourne:20180221T193000
DTEND;TZID=Australia/Melbourne:20180221T210000
SEQUENCE:0
SUMMARY:Group meeting
URL:http://www.fortunagroup.com.au/event/group-meeting/
X-COST-TYPE:free
END:VEVENT
BEGIN:VEVENT
UID:ai1ec-163@www.fortunagroup.com.au
DTSTAMP:20190301T160217Z
CATEGORIES:
CONTACT:
DESCRIPTION:
DTSTART;TZID=Australia/Melbourne:20180330T000500
DTEND;TZID=Australia/Melbourne:20180402T010500
SEQUENCE:0
SUMMARY:Easter
URL:http://www.fortunagroup.com.au/event/easter/
X-COST-TYPE:free
END:VEVENT
BEGIN:VEVENT
UID:ai1ec-164@www.fortunagroup.com.au
DTSTAMP:20190301T160217Z
CATEGORIES:
CONTACT:
DESCRIPTION:
DTSTART;TZID=Australia/Melbourne:20180502T190000
DTEND;TZID=Australia/Melbourne:20180503T100000
RDATE;TZID=Australia/Melbourne:20180509T190000
RDATE;TZID=Australia/Melbourne:20180517T190000
RDATE;TZID=Australia/Melbourne:20180523T190000
RDATE;TZID=Australia/Melbourne:20180530T190000
RDATE;TZID=Australia/Melbourne:20180606T190000
SEQUENCE:0
SUMMARY:Fortuna Recruit FF Course – Theory
URL:http://www.fortunagroup.com.au/event/fortuna-recruit-ff-course-theory/
X-COST-TYPE:free
END:VEVENT
BEGIN:VEVENT
UID:ai1ec-166@www.fortunagroup.com.au
DTSTAMP:20190301T160217Z
CATEGORIES:
CONTACT:
DESCRIPTION:
DTSTART;TZID=Australia/Melbourne:20180516T193000
DTEND;TZID=Australia/Melbourne:20180516T220000
SEQUENCE:0
SUMMARY:Fortuna Group Meeting
URL:http://www.fortunagroup.com.au/event/fortuna-group-meeting/
X-COST-TYPE:free
END:VEVENT
BEGIN:VEVENT
UID:ai1ec-165@www.fortunagroup.com.au
DTSTAMP:20190301T160217Z
CATEGORIES:
CONTACT:
DESCRIPTION:
DTSTART;TZID=Australia/Melbourne:20180617T083000
DTEND;TZID=Australia/Melbourne:20180617T170000
RDATE;TZID=Australia/Melbourne:20180617T083000
RDATE;TZID=Australia/Melbourne:20180624T083000
SEQUENCE:0
SUMMARY:Fortuna FF Recruit course – Practical
URL:http://www.fortunagroup.com.au/event/fortuna-ff-recruit-course-practica
 l/
X-COST-TYPE:free
END:VEVENT
END:VCALENDAR
